BEGIN:VCALENDAR
PRODID:-//Cornell Cooperative Extension of Oswego County//NONSGML Cornell Cooperative Extension of Oswego County Events//EN
X-ORIGINAL-URL:
VERSION:2.0
CALSCALE:GREGORIAN
METHOD:PUBLISH
BEGIN:VEVENT
METHOD: PUBLISH
X-MS-OLK-FORCEINSPECTOROPEN:TRUE
DTSTART:20260521T170500
DTEND:20260521T180600
SUMMARY:Vegetable Gardening for Beginners
DTSTAMP:20110121T170000
LAST-MODIFIED:20260422T130103
CREATED:20260422T121257
SEQUENCE:0
TRANSP:TRANSPARENT
UID:32980
LOCATION:
URL:http://thatscooperativeextension.org/events/2026/05/21/vegetable-gardening-for-beginners
DESCRIPTION:Cornell Cooperative Extension of Oswego County (CCE Oswego) will be holding a free outdoor vegetable garden workshop for beginners at the newly built Schneider-Shineman Community Garden.Attendees will be able to tour the community garden and learn how it began from presenters Linda Shurr and Pat Main, Master Gardeners for CCE Oswego County. Other topics covered will be: soil preparationweed managementtools neededseeding and transplantingraised beds and container gardeningpest controlThere will be plenty of time for questions, and printouts will be made available.This educational program is sponsored by the CCE Oswego Master Gardener Volunteer Program in partnership with Schneider-Shineman Community Garden.
CLASS:PUBLIC
CATEGORIES:
STATUS:CONFIRMED
END:VEVENT
END:VCALENDAR
n/a