BEGIN:VCALENDAR
PRODID:-//Cornell Cooperative Extension of Oswego County//NONSGML Cornell Cooperative Extension of Oswego County Events//EN
X-ORIGINAL-URL:
VERSION:2.0
CALSCALE:GREGORIAN
METHOD:PUBLISH
BEGIN:VEVENT
METHOD: PUBLISH
X-MS-OLK-FORCEINSPECTOROPEN:TRUE
DTSTART:20260511T180600
DTEND:20260511T200800
SUMMARY:2026 4-H Shooting Sports Rifle
DTSTAMP:20110121T170000
LAST-MODIFIED:20260420T090953
CREATED:20260420T090913
SEQUENCE:0
TRANSP:TRANSPARENT
UID:32959
LOCATION:
URL:http://thatscooperativeextension.org/events/2026/05/11/2026-4-h-shooting-sports-rifle
DESCRIPTION:Cornell Cooperative Extension of Oswego County is accepting registrations into its 4-H Shooting Sports Program. The rifle discipline is open to all youth ages 12 to 19 who are interested in learning how to operate a rifle safely and improve their shooting skills. The rifle program will be held on Mondays from 6 - 8 p.m. beginning May 11th.The 4-H Shooting Sports Program provides a positive experience for youth and promotes firearm safety. The program is also valuable for helping youth develop self-confidence, personal discipline, responsibility, teamwork, self-esteem, and sportsmanship. The Oswego County Shooting Sports Programs are not hunter safety education programs.Previous experience or firearm ownership is not necessary for youth to participate in this hands-on learning experience. The Oswego County 4-H Program and its instructors, certified through the New York State 4-H Shooting Sports Program, will provide all firearms and necessary equipment. The instructors are volunteers who are chosen for their ability to teach and their skill at relating to youth.Space is limited; therefore, registration is necessary, and parental or guardian permission is mandatory. Equipment and supplies are made possible through the NRA Foundation Grant.
CLASS:PUBLIC
CATEGORIES:
STATUS:CONFIRMED
END:VEVENT
END:VCALENDAR
n/a